BEGIN:VCALENDAR
VERSION:2.0
PRODID:-//ビバ・フローラ - ECPv4.6//NONSGML v1.0//EN
CALSCALE:GREGORIAN
METHOD:PUBLISH
X-WR-CALNAME:ビバ・フローラ
X-ORIGINAL-URL:http://viva.setagaya-hp.or.jp
X-WR-CALDESC:Events for ビバ・フローラ
BEGIN:VEVENT
DTSTART;TZID=Asia/Tokyo:20260114T120000
DTEND;TZID=Asia/Tokyo:20260114T130000
DTSTAMP:20260425T151723
CREATED:20251226T013932Z
LAST-MODIFIED:20251226T013932Z
UID:12950-1768392000-1768395600@viva.setagaya-hp.or.jp
SUMMARY:本日のランチ
DESCRIPTION:ごはん\nサワラの西京焼き\nかぼちゃの小豆煮\nチンゲン菜の錦糸和え\n豚汁\nあずきババロア \n
URL:http://viva.setagaya-hp.or.jp/event/%e6%9c%ac%e6%97%a5%e3%81%ae%e3%83%a9%e3%83%b3%e3%83%81-2319/
END:VEVENT
END:VCALENDAR