BEGIN:VCALENDAR
VERSION:2.0
PRODID:-//ビバ・フローラ - ECPv4.6//NONSGML v1.0//EN
CALSCALE:GREGORIAN
METHOD:PUBLISH
X-WR-CALNAME:ビバ・フローラ
X-ORIGINAL-URL:http://viva.setagaya-hp.or.jp
X-WR-CALDESC:Events for ビバ・フローラ
BEGIN:VEVENT
DTSTART;TZID=Asia/Tokyo:20260413T120000
DTEND;TZID=Asia/Tokyo:20260413T130000
DTSTAMP:20260425T154504
CREATED:20260408T040555Z
LAST-MODIFIED:20260408T040555Z
UID:13405-1776081600-1776085200@viva.setagaya-hp.or.jp
SUMMARY:本日のランチ
DESCRIPTION:バターライス\nポークチャップ\nほうれん草ソテー\nエビと玉ねぎのマリネ\nコンソメスープ\nアセロラジュレ \n
URL:http://viva.setagaya-hp.or.jp/event/%e6%9c%ac%e6%97%a5%e3%81%ae%e3%83%a9%e3%83%b3%e3%83%81-2406/
END:VEVENT
END:VCALENDAR