BEGIN:VCALENDAR
VERSION:2.0
PRODID:-//ビバ・フローラ - ECPv4.6//NONSGML v1.0//EN
CALSCALE:GREGORIAN
METHOD:PUBLISH
X-WR-CALNAME:ビバ・フローラ
X-ORIGINAL-URL:http://viva.setagaya-hp.or.jp
X-WR-CALDESC:Events for ビバ・フローラ
BEGIN:VEVENT
DTSTART;TZID=Asia/Tokyo:20260422T120000
DTEND;TZID=Asia/Tokyo:20260422T130000
DTSTAMP:20260426T011801
CREATED:20260409T020815Z
LAST-MODIFIED:20260409T020815Z
UID:13424-1776859200-1776862800@viva.setagaya-hp.or.jp
SUMMARY:本日のランチ
DESCRIPTION:ごはん\nビーフシチュー\nほうれん草コーン炒め\n温野菜サラダ\nメロンゼリー \n
URL:http://viva.setagaya-hp.or.jp/event/%e6%9c%ac%e6%97%a5%e3%81%ae%e3%83%a9%e3%83%b3%e3%83%81-2415/
END:VEVENT
END:VCALENDAR