BEGIN:VCALENDAR
VERSION:2.0
PRODID:-//ビバ・フローラ - ECPv4.6//NONSGML v1.0//EN
CALSCALE:GREGORIAN
METHOD:PUBLISH
X-WR-CALNAME:ビバ・フローラ
X-ORIGINAL-URL:http://viva.setagaya-hp.or.jp
X-WR-CALDESC:Events for ビバ・フローラ
BEGIN:VEVENT
DTSTART;TZID=Asia/Tokyo:20260507T120000
DTEND;TZID=Asia/Tokyo:20260507T130000
DTSTAMP:20260426T023019
CREATED:20260420T061545Z
LAST-MODIFIED:20260420T061545Z
UID:13464-1778155200-1778158800@viva.setagaya-hp.or.jp
SUMMARY:本日のランチ
DESCRIPTION:枝豆ごはん\nさばの塩焼き\nかぶとベーコンの白だし煮\nチンゲン菜のわさび和え\nとろろ昆布汁\n杏ゼリー \n
URL:http://viva.setagaya-hp.or.jp/event/%e6%9c%ac%e6%97%a5%e3%81%ae%e3%83%a9%e3%83%b3%e3%83%81-2429/
END:VEVENT
END:VCALENDAR