BEGIN:VCALENDAR
VERSION:2.0
PRODID:-//ビバ・フローラ - ECPv4.6//NONSGML v1.0//EN
CALSCALE:GREGORIAN
METHOD:PUBLISH
X-WR-CALNAME:ビバ・フローラ
X-ORIGINAL-URL:http://viva.setagaya-hp.or.jp
X-WR-CALDESC:Events for ビバ・フローラ
BEGIN:VEVENT
DTSTART;TZID=Asia/Tokyo:20260509T120000
DTEND;TZID=Asia/Tokyo:20260509T130000
DTSTAMP:20260426T000115
CREATED:20260420T061645Z
LAST-MODIFIED:20260420T061645Z
UID:13468-1778328000-1778331600@viva.setagaya-hp.or.jp
SUMMARY:本日のランチ
DESCRIPTION:菜飯\nかれいのみぞれ煮\n厚揚げ野菜炒め\nキャベツのごま和え\n豆腐のすまし汁\nいちごババロア \n
URL:http://viva.setagaya-hp.or.jp/event/%e6%9c%ac%e6%97%a5%e3%81%ae%e3%83%a9%e3%83%b3%e3%83%81-2431/
END:VEVENT
END:VCALENDAR