BEGIN:VCALENDAR
VERSION:2.0
PRODID:-//ビバ・フローラ - ECPv4.6//NONSGML v1.0//EN
CALSCALE:GREGORIAN
METHOD:PUBLISH
X-WR-CALNAME:ビバ・フローラ
X-ORIGINAL-URL:http://viva.setagaya-hp.or.jp
X-WR-CALDESC:Events for ビバ・フローラ
BEGIN:VEVENT
DTSTART;TZID=Asia/Tokyo:20210323T120000
DTEND;TZID=Asia/Tokyo:20210323T130000
DTSTAMP:20260419T123542
CREATED:20210318T005224Z
LAST-MODIFIED:20210318T005224Z
UID:6877-1616500800-1616504400@viva.setagaya-hp.or.jp
SUMMARY:本日のランチ
DESCRIPTION:ごはん\nカジキの野菜甘酢あんかけ\n里芋のゴマ味噌煮\nほうれん草の磯和え\nピーチゼリー\nお麩のすまし汁 \n
URL:http://viva.setagaya-hp.or.jp/event/%e6%9c%ac%e6%97%a5%e3%81%ae%e3%83%a9%e3%83%b3%e3%83%81-617/
END:VEVENT
END:VCALENDAR