BEGIN:VCALENDAR
VERSION:2.0
PRODID:-//ビバ・フローラ - ECPv4.6//NONSGML v1.0//EN
CALSCALE:GREGORIAN
METHOD:PUBLISH
X-WR-CALNAME:ビバ・フローラ
X-ORIGINAL-URL:http://viva.setagaya-hp.or.jp
X-WR-CALDESC:Events for ビバ・フローラ
BEGIN:VEVENT
DTSTART;TZID=Asia/Tokyo:20210412T120000
DTEND;TZID=Asia/Tokyo:20210412T130000
DTSTAMP:20260419T121314
CREATED:20210413T002042Z
LAST-MODIFIED:20210413T002042Z
UID:6934-1618228800-1618232400@viva.setagaya-hp.or.jp
SUMMARY:本日のランチ
DESCRIPTION:ご飯\n豚生姜焼き\n里芋のゆず味噌煮\nいんげんのツナ和え\n青りんごゼリー\nえのきのすまし汁 \n
URL:http://viva.setagaya-hp.or.jp/event/%e6%9c%ac%e6%97%a5%e3%81%ae%e3%83%a9%e3%83%b3%e3%83%81-637/
END:VEVENT
END:VCALENDAR