BEGIN:VCALENDAR
VERSION:2.0
PRODID:-//ビバ・フローラ - ECPv4.6//NONSGML v1.0//EN
CALSCALE:GREGORIAN
METHOD:PUBLISH
X-WR-CALNAME:ビバ・フローラ
X-ORIGINAL-URL:http://viva.setagaya-hp.or.jp
X-WR-CALDESC:Events for ビバ・フローラ
BEGIN:VEVENT
DTSTART;TZID=Asia/Tokyo:20180604T120000
DTEND;TZID=Asia/Tokyo:20180604T130000
DTSTAMP:20260419T170027
CREATED:20180628T052144Z
LAST-MODIFIED:20180707T061548Z
UID:1421-1528113600-1528117200@viva.setagaya-hp.or.jp
SUMMARY:本日のランチ
DESCRIPTION: \nグリンピースごはん\n金目鯛のかぶら蒸し\n筑前煮\nきゅうりの香味和え\nオレンジ\nお麩のすまし汁 \n
URL:http://viva.setagaya-hp.or.jp/event/%e6%9c%ac%e6%97%a5%e3%81%ae%e3%83%a9%e3%83%b3%e3%83%81-7/
END:VEVENT
END:VCALENDAR