BEGIN:VCALENDAR
VERSION:2.0
PRODID:-//ビバ・フローラ - ECPv4.6//NONSGML v1.0//EN
CALSCALE:GREGORIAN
METHOD:PUBLISH
X-WR-CALNAME:ビバ・フローラ
X-ORIGINAL-URL:http://viva.setagaya-hp.or.jp
X-WR-CALDESC:Events for ビバ・フローラ
BEGIN:VEVENT
DTSTART;TZID=Asia/Tokyo:20210627T120000
DTEND;TZID=Asia/Tokyo:20210627T130000
DTSTAMP:20260419T115126
CREATED:20210623T075941Z
LAST-MODIFIED:20210623T075941Z
UID:7241-1624795200-1624798800@viva.setagaya-hp.or.jp
SUMMARY:本日のランチ
DESCRIPTION:ごはん\nカジキの野菜甘酢あんかけ\n里芋のゴマ味噌煮\nほうれん草のお浸し\nフルーツ缶\n白菜のすまし汁 \n
URL:http://viva.setagaya-hp.or.jp/event/%e6%9c%ac%e6%97%a5%e3%81%ae%e3%83%a9%e3%83%b3%e3%83%81-713/
END:VEVENT
END:VCALENDAR