BEGIN:VCALENDAR
VERSION:2.0
PRODID:-//ビバ・フローラ - ECPv4.6//NONSGML v1.0//EN
CALSCALE:GREGORIAN
METHOD:PUBLISH
X-WR-CALNAME:ビバ・フローラ
X-ORIGINAL-URL:http://viva.setagaya-hp.or.jp
X-WR-CALDESC:Events for ビバ・フローラ
BEGIN:VEVENT
DTSTART;TZID=Asia/Tokyo:20210712T120000
DTEND;TZID=Asia/Tokyo:20210712T130000
DTSTAMP:20260419T141435
CREATED:20210706T031428Z
LAST-MODIFIED:20210706T031428Z
UID:7324-1626091200-1626094800@viva.setagaya-hp.or.jp
SUMMARY:本日のランチ
DESCRIPTION:ターメリックライス\nドライカレー\nツナサラダ\nヨーグルトストロベリーソース\nワカメスープ \n
URL:http://viva.setagaya-hp.or.jp/event/%e6%9c%ac%e6%97%a5%e3%81%ae%e3%83%a9%e3%83%b3%e3%83%81-728/
END:VEVENT
END:VCALENDAR