BEGIN:VCALENDAR
VERSION:2.0
PRODID:-//ビバ・フローラ - ECPv4.6//NONSGML v1.0//EN
CALSCALE:GREGORIAN
METHOD:PUBLISH
X-WR-CALNAME:ビバ・フローラ
X-ORIGINAL-URL:http://viva.setagaya-hp.or.jp
X-WR-CALDESC:Events for ビバ・フローラ
BEGIN:VEVENT
DTSTART;TZID=Asia/Tokyo:20210715T120000
DTEND;TZID=Asia/Tokyo:20210715T130000
DTSTAMP:20260419T170229
CREATED:20210706T033053Z
LAST-MODIFIED:20210706T033053Z
UID:7330-1626350400-1626354000@viva.setagaya-hp.or.jp
SUMMARY:本日のランチ
DESCRIPTION:ごはん\nあじの南蛮漬け\nかぶとベーコンの白だし煮\nオクラのおかか和え\nアセロラジュレ\n青菜の味噌汁 \n
URL:http://viva.setagaya-hp.or.jp/event/%e6%9c%ac%e6%97%a5%e3%81%ae%e3%83%a9%e3%83%b3%e3%83%81-731/
END:VEVENT
END:VCALENDAR