BEGIN:VCALENDAR
VERSION:2.0
PRODID:-//ビバ・フローラ - ECPv4.6//NONSGML v1.0//EN
CALSCALE:GREGORIAN
METHOD:PUBLISH
X-WR-CALNAME:ビバ・フローラ
X-ORIGINAL-URL:http://viva.setagaya-hp.or.jp
X-WR-CALDESC:Events for ビバ・フローラ
BEGIN:VEVENT
DTSTART;TZID=Asia/Tokyo:20210718T120000
DTEND;TZID=Asia/Tokyo:20210718T130000
DTSTAMP:20260419T141437
CREATED:20210712T050631Z
LAST-MODIFIED:20210712T050631Z
UID:7339-1626609600-1626613200@viva.setagaya-hp.or.jp
SUMMARY:本日のランチ
DESCRIPTION:ごはん\n豚肉のマーマレード煮\nキャベツのエビ炒め\n温野菜サラダ\nフルーツ缶\nコンソメスープ \n
URL:http://viva.setagaya-hp.or.jp/event/%e6%9c%ac%e6%97%a5%e3%81%ae%e3%83%a9%e3%83%b3%e3%83%81-734/
END:VEVENT
END:VCALENDAR