BEGIN:VCALENDAR
VERSION:2.0
PRODID:-//ビバ・フローラ - ECPv4.6//NONSGML v1.0//EN
CALSCALE:GREGORIAN
METHOD:PUBLISH
X-WR-CALNAME:ビバ・フローラ
X-ORIGINAL-URL:http://viva.setagaya-hp.or.jp
X-WR-CALDESC:Events for ビバ・フローラ
BEGIN:VEVENT
DTSTART;TZID=Asia/Tokyo:20210731T120000
DTEND;TZID=Asia/Tokyo:20210731T130000
DTSTAMP:20260419T184418
CREATED:20210722T024553Z
LAST-MODIFIED:20210722T024553Z
UID:7367-1627732800-1627736400@viva.setagaya-hp.or.jp
SUMMARY:本日のランチ
DESCRIPTION:枝豆ごはん\nアジごま味噌焼き\n冬瓜と鶏肉の旨煮\n春雨サラダ\nフルーツ缶\nお麩のすまし汁 \n
URL:http://viva.setagaya-hp.or.jp/event/%e6%9c%ac%e6%97%a5%e3%81%ae%e3%83%a9%e3%83%b3%e3%83%81-746/
END:VEVENT
END:VCALENDAR