BEGIN:VCALENDAR
VERSION:2.0
PRODID:-//ビバ・フローラ - ECPv4.6//NONSGML v1.0//EN
CALSCALE:GREGORIAN
METHOD:PUBLISH
X-WR-CALNAME:ビバ・フローラ
X-ORIGINAL-URL:http://viva.setagaya-hp.or.jp
X-WR-CALDESC:Events for ビバ・フローラ
BEGIN:VEVENT
DTSTART;TZID=Asia/Tokyo:20180818T120000
DTEND;TZID=Asia/Tokyo:20180818T130000
DTSTAMP:20260419T164516
CREATED:20180806T073254Z
LAST-MODIFIED:20180818T033811Z
UID:1910-1534593600-1534597200@viva.setagaya-hp.or.jp
SUMMARY:本日のランチ
DESCRIPTION: \nごはん\n鶏唐揚げのおろしがけ\n揚げ茄子の冷やし鉢\n桜エビの和え物\nフルーツ缶\nとうがんの味噌汁 \n
URL:http://viva.setagaya-hp.or.jp/event/%e6%9c%ac%e6%97%a5%e3%81%ae%e3%83%a9%e3%83%b3%e3%83%81-75/
END:VEVENT
END:VCALENDAR