BEGIN:VCALENDAR
VERSION:2.0
PRODID:-//ビバ・フローラ - ECPv4.6//NONSGML v1.0//EN
CALSCALE:GREGORIAN
METHOD:PUBLISH
X-WR-CALNAME:ビバ・フローラ
X-ORIGINAL-URL:http://viva.setagaya-hp.or.jp
X-WR-CALDESC:Events for ビバ・フローラ
BEGIN:VEVENT
DTSTART;TZID=Asia/Tokyo:20210811T120000
DTEND;TZID=Asia/Tokyo:20210811T130000
DTSTAMP:20260420T021647
CREATED:20210803T004536Z
LAST-MODIFIED:20210803T004536Z
UID:7396-1628683200-1628686800@viva.setagaya-hp.or.jp
SUMMARY:本日のランチ
DESCRIPTION:ごはん\n白身魚フライ\nかぶの海老あんかけ\nポテトサラダ\nフルーツ缶\n青菜の味噌汁 \n
URL:http://viva.setagaya-hp.or.jp/event/%e6%9c%ac%e6%97%a5%e3%81%ae%e3%83%a9%e3%83%b3%e3%83%81-757/
END:VEVENT
END:VCALENDAR