BEGIN:VCALENDAR
VERSION:2.0
PRODID:-//ビバ・フローラ - ECPv4.6//NONSGML v1.0//EN
CALSCALE:GREGORIAN
METHOD:PUBLISH
X-WR-CALNAME:ビバ・フローラ
X-ORIGINAL-URL:http://viva.setagaya-hp.or.jp
X-WR-CALDESC:Events for ビバ・フローラ
BEGIN:VEVENT
DTSTART;TZID=Asia/Tokyo:20180819T120000
DTEND;TZID=Asia/Tokyo:20180819T130000
DTSTAMP:20260419T194930
CREATED:20180816T003026Z
LAST-MODIFIED:20180820T034902Z
UID:1972-1534680000-1534683600@viva.setagaya-hp.or.jp
SUMMARY:本日のランチ
DESCRIPTION: \nターメリックライス\n夏野菜カレー\n福神漬け・楽京漬け\n温野菜サラダ\nフルーツ缶\nセロリのスープ \n
URL:http://viva.setagaya-hp.or.jp/event/%e6%9c%ac%e6%97%a5%e3%81%ae%e3%83%a9%e3%83%b3%e3%83%81-76/
END:VEVENT
END:VCALENDAR