BEGIN:VCALENDAR
VERSION:2.0
PRODID:-//ビバ・フローラ - ECPv4.6//NONSGML v1.0//EN
CALSCALE:GREGORIAN
METHOD:PUBLISH
X-WR-CALNAME:ビバ・フローラ
X-ORIGINAL-URL:http://viva.setagaya-hp.or.jp
X-WR-CALDESC:Events for ビバ・フローラ
BEGIN:VEVENT
DTSTART;TZID=Asia/Tokyo:20210816T120000
DTEND;TZID=Asia/Tokyo:20210816T130000
DTSTAMP:20260419T202558
CREATED:20210812T050429Z
LAST-MODIFIED:20210812T050429Z
UID:7407-1629115200-1629118800@viva.setagaya-hp.or.jp
SUMMARY:本日のランチ
DESCRIPTION:ごはん\n豚肉と茄子の味噌炒め\n大根のえびあんかけ\nインゲンの生姜和え\nフルーツ缶\nなるとのすまし汁 \n
URL:http://viva.setagaya-hp.or.jp/event/%e6%9c%ac%e6%97%a5%e3%81%ae%e3%83%a9%e3%83%b3%e3%83%81-762/
END:VEVENT
END:VCALENDAR