BEGIN:VCALENDAR
VERSION:2.0
PRODID:-//ビバ・フローラ - ECPv4.6//NONSGML v1.0//EN
CALSCALE:GREGORIAN
METHOD:PUBLISH
X-WR-CALNAME:ビバ・フローラ
X-ORIGINAL-URL:http://viva.setagaya-hp.or.jp
X-WR-CALDESC:Events for ビバ・フローラ
BEGIN:VEVENT
DTSTART;TZID=Asia/Tokyo:20210905T120000
DTEND;TZID=Asia/Tokyo:20210905T130000
DTSTAMP:20260420T033515
CREATED:20210902T022654Z
LAST-MODIFIED:20210902T022654Z
UID:7462-1630843200-1630846800@viva.setagaya-hp.or.jp
SUMMARY:本日のランチ
DESCRIPTION:ゆかりごはん\n肉豆腐\n大学芋\n青菜の酢味噌和え\nフルーツ缶\n麩のすまし汁 \n
URL:http://viva.setagaya-hp.or.jp/event/%e6%9c%ac%e6%97%a5%e3%81%ae%e3%83%a9%e3%83%b3%e3%83%81-781/
END:VEVENT
END:VCALENDAR