BEGIN:VCALENDAR
VERSION:2.0
PRODID:-//ビバ・フローラ - ECPv4.6//NONSGML v1.0//EN
CALSCALE:GREGORIAN
METHOD:PUBLISH
X-WR-CALNAME:ビバ・フローラ
X-ORIGINAL-URL:http://viva.setagaya-hp.or.jp
X-WR-CALDESC:Events for ビバ・フローラ
BEGIN:VEVENT
DTSTART;TZID=Asia/Tokyo:20210906T120000
DTEND;TZID=Asia/Tokyo:20210906T130000
DTSTAMP:20260419T231936
CREATED:20210902T022834Z
LAST-MODIFIED:20210902T022834Z
UID:7464-1630929600-1630933200@viva.setagaya-hp.or.jp
SUMMARY:本日のランチ
DESCRIPTION:ごはん\nエビフライ タルタル\nブロッコリーサラダ\nぶどうゼリー\nじゃが芋のスープ \n
URL:http://viva.setagaya-hp.or.jp/event/%e6%9c%ac%e6%97%a5%e3%81%ae%e3%83%a9%e3%83%b3%e3%83%81-782/
END:VEVENT
END:VCALENDAR