BEGIN:VCALENDAR
VERSION:2.0
PRODID:-//ビバ・フローラ - ECPv4.6//NONSGML v1.0//EN
CALSCALE:GREGORIAN
METHOD:PUBLISH
X-WR-CALNAME:ビバ・フローラ
X-ORIGINAL-URL:http://viva.setagaya-hp.or.jp
X-WR-CALDESC:Events for ビバ・フローラ
BEGIN:VEVENT
DTSTART;TZID=Asia/Tokyo:20210907T120000
DTEND;TZID=Asia/Tokyo:20210907T130000
DTSTAMP:20260419T232006
CREATED:20210902T022941Z
LAST-MODIFIED:20210902T022941Z
UID:7466-1631016000-1631019600@viva.setagaya-hp.or.jp
SUMMARY:本日のランチ
DESCRIPTION:ごはん\n豚のしょうが焼き\n冬瓜の蟹のくず煮\nアスパラサラダ\nフルーツ缶\nけんちん汁 \n
URL:http://viva.setagaya-hp.or.jp/event/%e6%9c%ac%e6%97%a5%e3%81%ae%e3%83%a9%e3%83%b3%e3%83%81-783/
END:VEVENT
END:VCALENDAR