BEGIN:VCALENDAR
VERSION:2.0
PRODID:-//ビバ・フローラ - ECPv4.6//NONSGML v1.0//EN
CALSCALE:GREGORIAN
METHOD:PUBLISH
X-WR-CALNAME:ビバ・フローラ
X-ORIGINAL-URL:http://viva.setagaya-hp.or.jp
X-WR-CALDESC:Events for ビバ・フローラ
BEGIN:VEVENT
DTSTART;TZID=Asia/Tokyo:20210912T120000
DTEND;TZID=Asia/Tokyo:20210912T130000
DTSTAMP:20260420T115025
CREATED:20210909T063133Z
LAST-MODIFIED:20210909T063133Z
UID:7477-1631448000-1631451600@viva.setagaya-hp.or.jp
SUMMARY:本日のランチ
DESCRIPTION:ソース焼きそば\n春巻き\n中華風和え物\nフルーツ缶\n中華スープ \n
URL:http://viva.setagaya-hp.or.jp/event/%e6%9c%ac%e6%97%a5%e3%81%ae%e3%83%a9%e3%83%b3%e3%83%81-788/
END:VEVENT
END:VCALENDAR