BEGIN:VCALENDAR
VERSION:2.0
PRODID:-//ビバ・フローラ - ECPv4.6//NONSGML v1.0//EN
CALSCALE:GREGORIAN
METHOD:PUBLISH
X-WR-CALNAME:ビバ・フローラ
X-ORIGINAL-URL:http://viva.setagaya-hp.or.jp
X-WR-CALDESC:Events for ビバ・フローラ
BEGIN:VEVENT
DTSTART;TZID=Asia/Tokyo:20180822T120000
DTEND;TZID=Asia/Tokyo:20180822T130000
DTSTAMP:20260421T105204
CREATED:20180816T003421Z
LAST-MODIFIED:20180823T034739Z
UID:1980-1534939200-1534942800@viva.setagaya-hp.or.jp
SUMMARY:本日のランチ
DESCRIPTION: \nごはん\n天ぷら\nキャベツのピリ辛マリネ\nかぶの浅漬け\nフルーツ缶\nワカメの味噌汁 \n
URL:http://viva.setagaya-hp.or.jp/event/%e6%9c%ac%e6%97%a5%e3%81%ae%e3%83%a9%e3%83%b3%e3%83%81-79/
END:VEVENT
END:VCALENDAR