BEGIN:VCALENDAR
VERSION:2.0
PRODID:-//ビバ・フローラ - ECPv4.6//NONSGML v1.0//EN
CALSCALE:GREGORIAN
METHOD:PUBLISH
X-WR-CALNAME:ビバ・フローラ
X-ORIGINAL-URL:http://viva.setagaya-hp.or.jp
X-WR-CALDESC:Events for ビバ・フローラ
BEGIN:VEVENT
DTSTART;TZID=Asia/Tokyo:20210922T120000
DTEND;TZID=Asia/Tokyo:20210922T130000
DTSTAMP:20260420T064601
CREATED:20210914T015830Z
LAST-MODIFIED:20210914T015830Z
UID:7499-1632312000-1632315600@viva.setagaya-hp.or.jp
SUMMARY:本日のランチ
DESCRIPTION:炊き込みご飯\n赤魚の西京焼き\n高野豆腐の含め煮\nかぼちゃサラダ\nフルーツ缶\nあさりのすまし汁 \n
URL:http://viva.setagaya-hp.or.jp/event/%e6%9c%ac%e6%97%a5%e3%81%ae%e3%83%a9%e3%83%b3%e3%83%81-798/
END:VEVENT
END:VCALENDAR