BEGIN:VCALENDAR
VERSION:2.0
PRODID:-//ビバ・フローラ - ECPv4.6//NONSGML v1.0//EN
CALSCALE:GREGORIAN
METHOD:PUBLISH
X-WR-CALNAME:ビバ・フローラ
X-ORIGINAL-URL:http://viva.setagaya-hp.or.jp
X-WR-CALDESC:Events for ビバ・フローラ
BEGIN:VEVENT
DTSTART;TZID=Asia/Tokyo:20180605T120000
DTEND;TZID=Asia/Tokyo:20180605T130000
DTSTAMP:20260419T170109
CREATED:20180628T052559Z
LAST-MODIFIED:20180707T061709Z
UID:1423-1528200000-1528203600@viva.setagaya-hp.or.jp
SUMMARY:本日のランチ
DESCRIPTION: \nごはん\n鶏肉の味噌焼き\n里芋の炒め煮\nかぶの甘酢漬け\nバナナ　&#x1f34c;\nかき卵汁 \n
URL:http://viva.setagaya-hp.or.jp/event/%e6%9c%ac%e6%97%a5%e3%81%ae%e3%83%a9%e3%83%b3%e3%83%81-8/
END:VEVENT
END:VCALENDAR