BEGIN:VCALENDAR
VERSION:2.0
PRODID:-//ビバ・フローラ - ECPv4.6//NONSGML v1.0//EN
CALSCALE:GREGORIAN
METHOD:PUBLISH
X-WR-CALNAME:ビバ・フローラ
X-ORIGINAL-URL:http://viva.setagaya-hp.or.jp
X-WR-CALDESC:Events for ビバ・フローラ
BEGIN:VEVENT
DTSTART;TZID=Asia/Tokyo:20211021T120000
DTEND;TZID=Asia/Tokyo:20211021T130000
DTSTAMP:20260419T215500
CREATED:20211014T000402Z
LAST-MODIFIED:20211014T000412Z
UID:7601-1634817600-1634821200@viva.setagaya-hp.or.jp
SUMMARY:本日のランチ
DESCRIPTION:舞茸ご飯\nサワラのごま照り焼き\nかぼちゃの含め煮\n春菊のお浸し\n柿\n白菜のすまし汁 \n
URL:http://viva.setagaya-hp.or.jp/event/%e6%9c%ac%e6%97%a5%e3%81%ae%e3%83%a9%e3%83%b3%e3%83%81-826/
END:VEVENT
END:VCALENDAR