BEGIN:VCALENDAR
VERSION:2.0
PRODID:-//ビバ・フローラ - ECPv4.6//NONSGML v1.0//EN
CALSCALE:GREGORIAN
METHOD:PUBLISH
X-WR-CALNAME:ビバ・フローラ
X-ORIGINAL-URL:http://viva.setagaya-hp.or.jp
X-WR-CALDESC:Events for ビバ・フローラ
BEGIN:VEVENT
DTSTART;TZID=Asia/Tokyo:20211028T120000
DTEND;TZID=Asia/Tokyo:20211028T130000
DTSTAMP:20260420T053200
CREATED:20211021T011149Z
LAST-MODIFIED:20211021T011149Z
UID:7699-1635422400-1635426000@viva.setagaya-hp.or.jp
SUMMARY:本日のランチ
DESCRIPTION:玉子とポテサラのサンドイッチ\nタンドリーチキン\n海老と野菜のサラダ\nフルーツ缶\nミネストローネ \n
URL:http://viva.setagaya-hp.or.jp/event/%e6%9c%ac%e6%97%a5%e3%81%ae%e3%83%a9%e3%83%b3%e3%83%81-833/
END:VEVENT
END:VCALENDAR