BEGIN:VCALENDAR
VERSION:2.0
PRODID:-//ビバ・フローラ - ECPv4.6//NONSGML v1.0//EN
CALSCALE:GREGORIAN
METHOD:PUBLISH
X-WR-CALNAME:ビバ・フローラ
X-ORIGINAL-URL:http://viva.setagaya-hp.or.jp
X-WR-CALDESC:Events for ビバ・フローラ
BEGIN:VEVENT
DTSTART;TZID=Asia/Tokyo:20211031T120000
DTEND;TZID=Asia/Tokyo:20211031T130000
DTSTAMP:20260420T010026
CREATED:20211026T043233Z
LAST-MODIFIED:20211026T043233Z
UID:7710-1635681600-1635685200@viva.setagaya-hp.or.jp
SUMMARY:本日のランチ
DESCRIPTION:ごはん\n黒むつの煮付け\n炒り鶏\nかぼちゃサラダ\nフルーツ缶\n冬瓜の味噌汁 \n
URL:http://viva.setagaya-hp.or.jp/event/%e6%9c%ac%e6%97%a5%e3%81%ae%e3%83%a9%e3%83%b3%e3%83%81-836/
END:VEVENT
END:VCALENDAR