BEGIN:VCALENDAR
VERSION:2.0
PRODID:-//ビバ・フローラ - ECPv4.6//NONSGML v1.0//EN
CALSCALE:GREGORIAN
METHOD:PUBLISH
X-WR-CALNAME:ビバ・フローラ
X-ORIGINAL-URL:http://viva.setagaya-hp.or.jp
X-WR-CALDESC:Events for ビバ・フローラ
BEGIN:VEVENT
DTSTART;TZID=Asia/Tokyo:20211108T120000
DTEND;TZID=Asia/Tokyo:20211108T130000
DTSTAMP:20260420T040140
CREATED:20211102T075941Z
LAST-MODIFIED:20211102T075941Z
UID:7731-1636372800-1636376400@viva.setagaya-hp.or.jp
SUMMARY:本日のランチ
DESCRIPTION:ひじきご飯\n赤魚の柚庵焼き\nかぼちゃの小豆煮\n青梗菜の錦糸和え\n麩のすまし汁\nライチジュレ \n
URL:http://viva.setagaya-hp.or.jp/event/%e6%9c%ac%e6%97%a5%e3%81%ae%e3%83%a9%e3%83%b3%e3%83%81-844/
END:VEVENT
END:VCALENDAR