BEGIN:VCALENDAR
VERSION:2.0
PRODID:-//ビバ・フローラ - ECPv4.6//NONSGML v1.0//EN
CALSCALE:GREGORIAN
METHOD:PUBLISH
X-WR-CALNAME:ビバ・フローラ
X-ORIGINAL-URL:http://viva.setagaya-hp.or.jp
X-WR-CALDESC:Events for ビバ・フローラ
BEGIN:VEVENT
DTSTART;TZID=Asia/Tokyo:20211109T120000
DTEND;TZID=Asia/Tokyo:20211109T130000
DTSTAMP:20260420T060107
CREATED:20211102T080053Z
LAST-MODIFIED:20211102T080053Z
UID:7733-1636459200-1636462800@viva.setagaya-hp.or.jp
SUMMARY:本日のランチ
DESCRIPTION:ごはん\n鶏の酢豚風\n春雨の中華炒め\n三色ナムル\n中華スープ\nマンゴープリン \n
URL:http://viva.setagaya-hp.or.jp/event/%e6%9c%ac%e6%97%a5%e3%81%ae%e3%83%a9%e3%83%b3%e3%83%81-845/
END:VEVENT
END:VCALENDAR