BEGIN:VCALENDAR
VERSION:2.0
PRODID:-//ビバ・フローラ - ECPv4.6//NONSGML v1.0//EN
CALSCALE:GREGORIAN
METHOD:PUBLISH
X-WR-CALNAME:ビバ・フローラ
X-ORIGINAL-URL:http://viva.setagaya-hp.or.jp
X-WR-CALDESC:Events for ビバ・フローラ
BEGIN:VEVENT
DTSTART;TZID=Asia/Tokyo:20211201T120000
DTEND;TZID=Asia/Tokyo:20211201T130000
DTSTAMP:20260420T040011
CREATED:20211122T074944Z
LAST-MODIFIED:20211122T074944Z
UID:7781-1638360000-1638363600@viva.setagaya-hp.or.jp
SUMMARY:本日のランチ
DESCRIPTION:ごはん\nサワラのごま味噌焼き\n高野豆腐の含め煮\nさつま芋サラダ\nキウイフルーツ\nあさりのすまし汁 \n
URL:http://viva.setagaya-hp.or.jp/event/%e6%9c%ac%e6%97%a5%e3%81%ae%e3%83%a9%e3%83%b3%e3%83%81-866/
END:VEVENT
END:VCALENDAR