BEGIN:VCALENDAR
VERSION:2.0
PRODID:-//ビバ・フローラ - ECPv4.6//NONSGML v1.0//EN
CALSCALE:GREGORIAN
METHOD:PUBLISH
X-WR-CALNAME:ビバ・フローラ
X-ORIGINAL-URL:http://viva.setagaya-hp.or.jp
X-WR-CALDESC:Events for ビバ・フローラ
BEGIN:VEVENT
DTSTART;TZID=Asia/Tokyo:20211205T120000
DTEND;TZID=Asia/Tokyo:20211205T150000
DTSTAMP:20260420T160649
CREATED:20211129T072148Z
LAST-MODIFIED:20211129T072148Z
UID:7798-1638705600-1638716400@viva.setagaya-hp.or.jp
SUMMARY:本日のランチ
DESCRIPTION:ゆかりごはん\n厚揚げ野菜炒め\nかぶの海老あんかけ\n枝豆サラダ\nフルーツ缶\nお麩の味噌汁 \n
URL:http://viva.setagaya-hp.or.jp/event/%e6%9c%ac%e6%97%a5%e3%81%ae%e3%83%a9%e3%83%b3%e3%83%81-870/
END:VEVENT
END:VCALENDAR