BEGIN:VCALENDAR
VERSION:2.0
PRODID:-//ビバ・フローラ - ECPv4.6//NONSGML v1.0//EN
CALSCALE:GREGORIAN
METHOD:PUBLISH
X-WR-CALNAME:ビバ・フローラ
X-ORIGINAL-URL:http://viva.setagaya-hp.or.jp
X-WR-CALDESC:Events for ビバ・フローラ
BEGIN:VEVENT
DTSTART;TZID=Asia/Tokyo:20211211T120000
DTEND;TZID=Asia/Tokyo:20211211T130000
DTSTAMP:20260420T155736
CREATED:20211129T073025Z
LAST-MODIFIED:20211129T073025Z
UID:7810-1639224000-1639227600@viva.setagaya-hp.or.jp
SUMMARY:本日のランチ
DESCRIPTION:エビピラフ\n白身魚の香草パン粉焼き\nグリーンサラダ\nぶどうゼリー\nじゃが芋のスープ \n
URL:http://viva.setagaya-hp.or.jp/event/%e6%9c%ac%e6%97%a5%e3%81%ae%e3%83%a9%e3%83%b3%e3%83%81-876/
END:VEVENT
END:VCALENDAR