BEGIN:VCALENDAR
VERSION:2.0
PRODID:-//ビバ・フローラ - ECPv4.6//NONSGML v1.0//EN
CALSCALE:GREGORIAN
METHOD:PUBLISH
X-WR-CALNAME:ビバ・フローラ
X-ORIGINAL-URL:http://viva.setagaya-hp.or.jp
X-WR-CALDESC:Events for ビバ・フローラ
BEGIN:VEVENT
DTSTART;TZID=Asia/Tokyo:20180606T120000
DTEND;TZID=Asia/Tokyo:20180606T130000
DTSTAMP:20260419T180052
CREATED:20180628T052709Z
LAST-MODIFIED:20180709T020133Z
UID:1425-1528286400-1528290000@viva.setagaya-hp.or.jp
SUMMARY:本日のランチ
DESCRIPTION: \n炊き込みごはん\n太刀魚ごま味噌焼き\n白菜梅じそ和え\nマンゴーヨーグルト\n豆腐の味噌汁 \n
URL:http://viva.setagaya-hp.or.jp/event/%e6%9c%ac%e6%97%a5%e3%81%ae%e3%83%a9%e3%83%b3%e3%83%81-9/
END:VEVENT
END:VCALENDAR