BEGIN:VCALENDAR
VERSION:2.0
PRODID:-//ビバ・フローラ - ECPv4.6//NONSGML v1.0//EN
CALSCALE:GREGORIAN
METHOD:PUBLISH
X-WR-CALNAME:ビバ・フローラ
X-ORIGINAL-URL:http://viva.setagaya-hp.or.jp
X-WR-CALDESC:Events for ビバ・フローラ
BEGIN:VEVENT
DTSTART;TZID=Asia/Tokyo:20220107T120000
DTEND;TZID=Asia/Tokyo:20220107T130000
DTSTAMP:20260421T013535
CREATED:20220104T040508Z
LAST-MODIFIED:20220104T040508Z
UID:7879-1641556800-1641560400@viva.setagaya-hp.or.jp
SUMMARY:本日のランチ
DESCRIPTION:七草粥\nサワラのごま味噌焼き\nキャベツと厚揚げの和風煮\nかぶのゆず漬け\nはんぺんのすまし汁\n杏ゼリー \n
URL:http://viva.setagaya-hp.or.jp/event/%e6%9c%ac%e6%97%a5%e3%81%ae%e3%83%a9%e3%83%b3%e3%83%81-901/
END:VEVENT
END:VCALENDAR