BEGIN:VCALENDAR
VERSION:2.0
PRODID:-//ビバ・フローラ - ECPv4.6//NONSGML v1.0//EN
CALSCALE:GREGORIAN
METHOD:PUBLISH
X-WR-CALNAME:ビバ・フローラ
X-ORIGINAL-URL:http://viva.setagaya-hp.or.jp
X-WR-CALDESC:Events for ビバ・フローラ
BEGIN:VEVENT
DTSTART;TZID=Asia/Tokyo:20220114T120000
DTEND;TZID=Asia/Tokyo:20220114T130000
DTSTAMP:20260420T193147
CREATED:20220106T015810Z
LAST-MODIFIED:20220106T015810Z
UID:7894-1642161600-1642165200@viva.setagaya-hp.or.jp
SUMMARY:本日のランチ
DESCRIPTION:ごはん\n赤魚の柚庵焼き\nかぼちゃの小豆煮\nチンゲン菜の錦糸和え\nとろろ昆布のすまし汁\nライチジュレ \n
URL:http://viva.setagaya-hp.or.jp/event/%e6%9c%ac%e6%97%a5%e3%81%ae%e3%83%a9%e3%83%b3%e3%83%81-908/
END:VEVENT
END:VCALENDAR