BEGIN:VCALENDAR
VERSION:2.0
PRODID:-//ビバ・フローラ - ECPv4.6//NONSGML v1.0//EN
CALSCALE:GREGORIAN
METHOD:PUBLISH
X-WR-CALNAME:ビバ・フローラ
X-ORIGINAL-URL:http://viva.setagaya-hp.or.jp
X-WR-CALDESC:Events for ビバ・フローラ
BEGIN:VEVENT
DTSTART;TZID=Asia/Tokyo:20220115T120000
DTEND;TZID=Asia/Tokyo:20220115T130000
DTSTAMP:20260420T173715
CREATED:20220106T015836Z
LAST-MODIFIED:20220106T015836Z
UID:7896-1642248000-1642251600@viva.setagaya-hp.or.jp
SUMMARY:本日のランチ
DESCRIPTION:ごはん\n鶏の酢豚風\n春雨の中華炒め\n三色ナムル\n中華スープ\n杏仁豆腐 \n
URL:http://viva.setagaya-hp.or.jp/event/%e6%9c%ac%e6%97%a5%e3%81%ae%e3%83%a9%e3%83%b3%e3%83%81-909/
END:VEVENT
END:VCALENDAR