BEGIN:VCALENDAR
VERSION:2.0
PRODID:-//ビバ・フローラ - ECPv4.6//NONSGML v1.0//EN
CALSCALE:GREGORIAN
METHOD:PUBLISH
X-WR-CALNAME:ビバ・フローラ
X-ORIGINAL-URL:http://viva.setagaya-hp.or.jp
X-WR-CALDESC:Events for ビバ・フローラ
BEGIN:VEVENT
DTSTART;TZID=Asia/Tokyo:20220122T120000
DTEND;TZID=Asia/Tokyo:20220122T130000
DTSTAMP:20260420T222218
CREATED:20220111T072515Z
LAST-MODIFIED:20220111T072515Z
UID:7911-1642852800-1642856400@viva.setagaya-hp.or.jp
SUMMARY:本日のランチ
DESCRIPTION:ごはん\n鮭チーズフライ\n高野豆腐の含め煮\nアスパラの胡麻和え\n青菜のすまし汁\nフルーツ缶 \n
URL:http://viva.setagaya-hp.or.jp/event/%e6%9c%ac%e6%97%a5%e3%81%ae%e3%83%a9%e3%83%b3%e3%83%81-916/
END:VEVENT
END:VCALENDAR