BEGIN:VCALENDAR
VERSION:2.0
PRODID:-//ビバ・フローラ - ECPv4.6//NONSGML v1.0//EN
CALSCALE:GREGORIAN
METHOD:PUBLISH
X-WR-CALNAME:ビバ・フローラ
X-ORIGINAL-URL:http://viva.setagaya-hp.or.jp
X-WR-CALDESC:Events for ビバ・フローラ
BEGIN:VEVENT
DTSTART;TZID=Asia/Tokyo:20220202T120000
DTEND;TZID=Asia/Tokyo:20220202T130000
DTSTAMP:20260421T013357
CREATED:20220124T064639Z
LAST-MODIFIED:20220124T064639Z
UID:7934-1643803200-1643806800@viva.setagaya-hp.or.jp
SUMMARY:本日のランチ
DESCRIPTION:ターメリックライス\nドライカレー\n素揚げ野菜サラダ\nトマトスープ\nフルーツヨーグルト \n
URL:http://viva.setagaya-hp.or.jp/event/%e6%9c%ac%e6%97%a5%e3%81%ae%e3%83%a9%e3%83%b3%e3%83%81-927/
END:VEVENT
END:VCALENDAR