BEGIN:VCALENDAR
VERSION:2.0
PRODID:-//ビバ・フローラ - ECPv4.6//NONSGML v1.0//EN
CALSCALE:GREGORIAN
METHOD:PUBLISH
X-WR-CALNAME:ビバ・フローラ
X-ORIGINAL-URL:http://viva.setagaya-hp.or.jp
X-WR-CALDESC:Events for ビバ・フローラ
BEGIN:VEVENT
DTSTART;TZID=Asia/Tokyo:20220303T120000
DTEND;TZID=Asia/Tokyo:20220303T130000
DTSTAMP:20260420T080703
CREATED:20220221T071533Z
LAST-MODIFIED:20220221T071533Z
UID:8085-1646308800-1646312400@viva.setagaya-hp.or.jp
SUMMARY:本日のランチ
DESCRIPTION:ちらし寿司\n揚げ出し豆腐\nほうれん草とささみのおひたし\n潮汁\nいちご \n
URL:http://viva.setagaya-hp.or.jp/event/%e6%9c%ac%e6%97%a5%e3%81%ae%e3%83%a9%e3%83%b3%e3%83%81-955/
END:VEVENT
END:VCALENDAR