BEGIN:VCALENDAR
VERSION:2.0
PRODID:-//ビバ・フローラ - ECPv4.6//NONSGML v1.0//EN
CALSCALE:GREGORIAN
METHOD:PUBLISH
X-WR-CALNAME:ビバ・フローラ
X-ORIGINAL-URL:http://viva.setagaya-hp.or.jp
X-WR-CALDESC:Events for ビバ・フローラ
BEGIN:VEVENT
DTSTART;TZID=Asia/Tokyo:20220311T120000
DTEND;TZID=Asia/Tokyo:20220311T130000
DTSTAMP:20260420T160505
CREATED:20220228T034825Z
LAST-MODIFIED:20220228T034825Z
UID:8102-1647000000-1647003600@viva.setagaya-hp.or.jp
SUMMARY:本日のランチ
DESCRIPTION:ごはん\n白身魚の磯辺揚げ\n茄子とピーマンのしぎ煮\nかぶの柚子漬け\nあさりのすまし汁\nりんごのコンポート \n
URL:http://viva.setagaya-hp.or.jp/event/%e6%9c%ac%e6%97%a5%e3%81%ae%e3%83%a9%e3%83%b3%e3%83%81-963/
END:VEVENT
END:VCALENDAR