BEGIN:VCALENDAR
VERSION:2.0
PRODID:-//ビバ・フローラ - ECPv4.6//NONSGML v1.0//EN
CALSCALE:GREGORIAN
METHOD:PUBLISH
X-WR-CALNAME:ビバ・フローラ
X-ORIGINAL-URL:http://viva.setagaya-hp.or.jp
X-WR-CALDESC:Events for ビバ・フローラ
BEGIN:VEVENT
DTSTART;TZID=Asia/Tokyo:20220316T120000
DTEND;TZID=Asia/Tokyo:20220316T130000
DTSTAMP:20260420T063823
CREATED:20220308T003224Z
LAST-MODIFIED:20220308T003224Z
UID:8115-1647432000-1647435600@viva.setagaya-hp.or.jp
SUMMARY:本日のランチ
DESCRIPTION:パン\n鶏の香草パン粉焼き\nいんげんコーン炒め\nきのこのマリネ\nフルーツ缶\nクラムチャウダー \n
URL:http://viva.setagaya-hp.or.jp/event/%e6%9c%ac%e6%97%a5%e3%81%ae%e3%83%a9%e3%83%b3%e3%83%81-968/
END:VEVENT
END:VCALENDAR