BEGIN:VCALENDAR
VERSION:2.0
PRODID:-//ビバ・フローラ - ECPv4.6//NONSGML v1.0//EN
CALSCALE:GREGORIAN
METHOD:PUBLISH
X-WR-CALNAME:ビバ・フローラ
X-ORIGINAL-URL:http://viva.setagaya-hp.or.jp
X-WR-CALDESC:Events for ビバ・フローラ
BEGIN:VEVENT
DTSTART;TZID=Asia/Tokyo:20220329T120000
DTEND;TZID=Asia/Tokyo:20220329T130000
DTSTAMP:20260420T142506
CREATED:20220325T065519Z
LAST-MODIFIED:20220325T065519Z
UID:8150-1648555200-1648558800@viva.setagaya-hp.or.jp
SUMMARY:本日のランチ
DESCRIPTION:ひじきごはん\n黒むつの西京焼き\n茄子の酒蒸し\nさつまいもサラダ\n小松菜のすまし汁\n梅ゼリー \n
URL:http://viva.setagaya-hp.or.jp/event/%e6%9c%ac%e6%97%a5%e3%81%ae%e3%83%a9%e3%83%b3%e3%83%81-979/
END:VEVENT
END:VCALENDAR