BEGIN:VCALENDAR
VERSION:2.0
PRODID:-//ビバ・フローラ - ECPv4.6//NONSGML v1.0//EN
CALSCALE:GREGORIAN
METHOD:PUBLISH
X-WR-CALNAME:ビバ・フローラ
X-ORIGINAL-URL:http://viva.setagaya-hp.or.jp
X-WR-CALDESC:Events for ビバ・フローラ
BEGIN:VEVENT
DTSTART;TZID=Asia/Tokyo:20160531T144000
DTEND;TZID=Asia/Tokyo:20160531T150000
DTSTAMP:20260420T191242
CREATED:20160427T030205Z
LAST-MODIFIED:20160427T030205Z
UID:529-1464705600-1464706800@viva.setagaya-hp.or.jp
SUMMARY:歌曲を聴くひととき
DESCRIPTION:
URL:http://viva.setagaya-hp.or.jp/event/%e6%ad%8c%e6%9b%b2%e3%82%92%e8%81%b4%e3%81%8f%e3%81%b2%e3%81%a8%e3%81%a8%e3%81%8d/
END:VEVENT
END:VCALENDAR