BEGIN:VCALENDAR
VERSION:2.0
PRODID:-//ビバ・フローラ - ECPv4.6//NONSGML v1.0//EN
CALSCALE:GREGORIAN
METHOD:PUBLISH
X-WR-CALNAME:ビバ・フローラ
X-ORIGINAL-URL:http://viva.setagaya-hp.or.jp
X-WR-CALDESC:Events for ビバ・フローラ
BEGIN:VEVENT
DTSTART;VALUE=DATE:20230717
DTEND;VALUE=DATE:20230717
DTSTAMP:20260421T214631
CREATED:20221006T062510Z
LAST-MODIFIED:20221006T062559Z
UID:8773-1689552000-1689638399@viva.setagaya-hp.or.jp
SUMMARY:海の日&#x1f6a2;
DESCRIPTION:
URL:http://viva.setagaya-hp.or.jp/event/%e6%b5%b7%e3%81%ae%e6%97%a5%f0%9f%90%a1/
END:VEVENT
END:VCALENDAR