BEGIN:VCALENDAR
VERSION:2.0
PRODID:-//ビバ・フローラ - ECPv4.6//NONSGML v1.0//EN
CALSCALE:GREGORIAN
METHOD:PUBLISH
X-WR-CALNAME:ビバ・フローラ
X-ORIGINAL-URL:http://viva.setagaya-hp.or.jp
X-WR-CALDESC:Events for ビバ・フローラ
BEGIN:VEVENT
DTSTART;TZID=Asia/Tokyo:20251225T120000
DTEND;TZID=Asia/Tokyo:20251225T130000
DTSTAMP:20260425T142937
CREATED:20251122T020733Z
LAST-MODIFIED:20251213T010251Z
UID:12831-1766664000-1766667600@viva.setagaya-hp.or.jp
SUMMARY:スペシャルランチ
DESCRIPTION:バターライス\nチキンのフリカッセ\nほうれん草オムレツ\nグリーンサラダ\nオニオンスープ\nいちごババロア \n
URL:http://viva.setagaya-hp.or.jp/event/%e6%b6%88%e9%98%b2%e8%a8%93%e7%b7%b4-9/
END:VEVENT
END:VCALENDAR