BEGIN:VCALENDAR
VERSION:2.0
PRODID:-//ビバ・フローラ - ECPv4.6//NONSGML v1.0//EN
CALSCALE:GREGORIAN
METHOD:PUBLISH
X-WR-CALNAME:ビバ・フローラ
X-ORIGINAL-URL:http://viva.setagaya-hp.or.jp
X-WR-CALDESC:Events for ビバ・フローラ
BEGIN:VEVENT
DTSTART;TZID=Asia/Tokyo:20200926T143000
DTEND;TZID=Asia/Tokyo:20200926T150000
DTSTAMP:20260420T102942
CREATED:20200829T061223Z
LAST-MODIFIED:20200829T061331Z
UID:6025-1601130600-1601132400@viva.setagaya-hp.or.jp
SUMMARY:看護師による「褥瘡の対応」説明会
DESCRIPTION:
URL:http://viva.setagaya-hp.or.jp/event/%e7%9c%8b%e8%ad%b7%e5%b8%ab%e3%81%ab%e3%82%88%e3%82%8b%e3%80%8c%e8%a4%a5%e7%98%a1%e3%80%8d%e3%81%ab%e3%81%a4%e3%81%84%e3%81%a6%e3%81%ae%e8%aa%ac%e6%98%8e%e4%bc%9a/
END:VEVENT
END:VCALENDAR