BEGIN:VCALENDAR
VERSION:2.0
PRODID:-//ビバ・フローラ - ECPv4.6//NONSGML v1.0//EN
CALSCALE:GREGORIAN
METHOD:PUBLISH
X-WR-CALNAME:ビバ・フローラ
X-ORIGINAL-URL:http://viva.setagaya-hp.or.jp
X-WR-CALDESC:Events for ビバ・フローラ
BEGIN:VEVENT
DTSTART;VALUE=DATE:20220923
DTEND;VALUE=DATE:20220923
DTSTAMP:20260420T190545
CREATED:20220512T040749Z
LAST-MODIFIED:20220512T040749Z
UID:8322-1663891200-1663977599@viva.setagaya-hp.or.jp
SUMMARY:秋分の日
DESCRIPTION:
URL:http://viva.setagaya-hp.or.jp/event/%e7%a7%8b%e5%88%86%e3%81%ae%e6%97%a5-7/
END:VEVENT
END:VCALENDAR