BEGIN:VCALENDAR
VERSION:2.0
PRODID:-//ビバ・フローラ - ECPv4.6//NONSGML v1.0//EN
CALSCALE:GREGORIAN
METHOD:PUBLISH
X-WR-CALNAME:ビバ・フローラ
X-ORIGINAL-URL:http://viva.setagaya-hp.or.jp
X-WR-CALDESC:Events for ビバ・フローラ
BEGIN:VEVENT
DTSTART;TZID=Asia/Tokyo:20250328T153000
DTEND;TZID=Asia/Tokyo:20250328T163000
DTSTAMP:20260425T133434
CREATED:20250321T021709Z
LAST-MODIFIED:20250321T021709Z
UID:11980-1743175800-1743179400@viva.setagaya-hp.or.jp
SUMMARY:管理栄養士による「高齢者の嚥下食」説明会
DESCRIPTION:
URL:http://viva.setagaya-hp.or.jp/event/%e7%ae%a1%e7%90%86%e6%a0%84%e9%a4%8a%e5%a3%ab%e3%81%ab%e3%82%88%e3%82%8b%e3%80%8c%e9%ab%98%e9%bd%a2%e8%80%85%e3%81%ae%e5%9a%a5%e4%b8%8b%e9%a3%9f%e3%80%8d%e8%aa%ac%e6%98%8e%e4%bc%9a/
END:VEVENT
END:VCALENDAR