BEGIN:VCALENDAR
VERSION:2.0
PRODID:-//ビバ・フローラ - ECPv4.6//NONSGML v1.0//EN
CALSCALE:GREGORIAN
METHOD:PUBLISH
X-WR-CALNAME:ビバ・フローラ
X-ORIGINAL-URL:http://viva.setagaya-hp.or.jp
X-WR-CALDESC:Events for ビバ・フローラ
BEGIN:VEVENT
DTSTART;TZID=Asia/Tokyo:20220313T153000
DTEND;TZID=Asia/Tokyo:20220313T163000
DTSTAMP:20260420T110624
CREATED:20220308T071548Z
LAST-MODIFIED:20220308T071548Z
UID:8123-1647185400-1647189000@viva.setagaya-hp.or.jp
SUMMARY:管理栄養士による説明会「適切な食事形態の選び方」
DESCRIPTION:
URL:http://viva.setagaya-hp.or.jp/event/%e7%ae%a1%e7%90%86%e6%a0%84%e9%a4%8a%e5%a3%ab%e3%81%ab%e3%82%88%e3%82%8b%e8%aa%ac%e6%98%8e%e4%bc%9a%e3%80%8c%e9%81%a9%e5%88%87%e3%81%aa%e9%a3%9f%e4%ba%8b%e5%bd%a2%e6%85%8b%e3%81%ae%e9%81%b8%e3%81%b3/
END:VEVENT
END:VCALENDAR