BEGIN:VCALENDAR
VERSION:2.0
PRODID:-//ビバ・フローラ - ECPv4.6//NONSGML v1.0//EN
CALSCALE:GREGORIAN
METHOD:PUBLISH
X-WR-CALNAME:ビバ・フローラ
X-ORIGINAL-URL:http://viva.setagaya-hp.or.jp
X-WR-CALDESC:Events for ビバ・フローラ
BEGIN:VEVENT
DTSTART;VALUE=DATE:20250202
DTEND;VALUE=DATE:20250202
DTSTAMP:20260424T232954
CREATED:20240708T012244Z
LAST-MODIFIED:20250130T235055Z
UID:11038-1738454400-1738540799@viva.setagaya-hp.or.jp
SUMMARY:節分
DESCRIPTION:
URL:http://viva.setagaya-hp.or.jp/event/%e7%af%80%e5%88%86/
END:VEVENT
END:VCALENDAR